BEGIN:VCALENDAR
VERSION:2.0
PRODID:http://www.weinco.at
METHOD:PUBLISH
BEGIN:VEVENT
UID:2e6167426b4b6a4c272e01676d5df893@weinco.at
LOCATION:, 0 
SUMMARY:25 Top-Italiener in der Gratisverkostung
DESCRIPTION:
CLASS:PUBLIC
DTSTART:20180406T010000
DTSTAMP:20260421T181500
END:VEVENT
END:VCALENDAR
