BEGIN:VCALENDAR
VERSION:2.0
PRODID:http://www.weinco.at
METHOD:PUBLISH
BEGIN:VEVENT
UID:b780214f2ff6ab83e4d9d392922925ce@weinco.at
LOCATION:Getreidemarkt 1, 1060 Wien
SUMMARY:„Anleitung zum Weinsaufen“ live
DESCRIPTION:
CLASS:PUBLIC
DTSTART:20230601T130000
DTSTAMP:20260421T121800
END:VEVENT
END:VCALENDAR
