BEGIN:VCALENDAR
VERSION:2.0
PRODID:http://www.weinco.at
METHOD:PUBLISH
BEGIN:VEVENT
UID:0a97e4f47718632c556e9ac591d5f3c2@weinco.at
LOCATION:Mariahilfer Straße 36, 1070 Wien
SUMMARY:Bier ABC
DESCRIPTION:
CLASS:PUBLIC
DTSTART:20160215T193000
DTSTAMP:20260421T101700
END:VEVENT
END:VCALENDAR
