BEGIN:VCALENDAR
VERSION:2.0
PRODID:http://www.weinco.at
METHOD:PUBLISH
BEGIN:VEVENT
UID:803815bbe0f321b3e4476f9af5fbe16f@weinco.at
LOCATION:Seyringer Straße 6-8, 1210 Wien
SUMMARY:Blind Date!
DESCRIPTION:
CLASS:PUBLIC
DTSTART:20240314T193000
DTSTAMP:20260420T033800
END:VEVENT
END:VCALENDAR
