BEGIN:VCALENDAR
VERSION:2.0
PRODID:http://www.weinco.at
METHOD:PUBLISH
BEGIN:VEVENT
UID:f543cf8c172c7e78a2420a2d7555c2f1@weinco.at
LOCATION:Platzl 2, 5020 Salzburg
SUMMARY:Blind Taste
DESCRIPTION:
CLASS:PUBLIC
DTSTART:20231104T190000
DTSTAMP:20260423T060800
END:VEVENT
END:VCALENDAR
