BEGIN:VCALENDAR
VERSION:2.0
PRODID:http://www.weinco.at
METHOD:PUBLISH
BEGIN:VEVENT
UID:8b290bf3b1b039227841d89f5f145a80@weinco.at
LOCATION:Platzl 2, 5020 Salzburg
SUMMARY:Blind Taste
DESCRIPTION:
CLASS:PUBLIC
DTSTART:20240302T190000
DTSTAMP:20260420T034100
END:VEVENT
END:VCALENDAR
