BEGIN:VCALENDAR
VERSION:2.0
PRODID:http://www.weinco.at
METHOD:PUBLISH
BEGIN:VEVENT
UID:75b4f712b9a4860516a726646282d56a@weinco.at
LOCATION:Mariahilfer Straße 36, 1070 Wien
SUMMARY:Gin ABC
DESCRIPTION:
CLASS:PUBLIC
DTSTART:20190814T193000
DTSTAMP:20260420T004500
END:VEVENT
END:VCALENDAR
