BEGIN:VCALENDAR
VERSION:2.0
PRODID:http://www.weinco.at
METHOD:PUBLISH
BEGIN:VEVENT
UID:f7e7ab490f2e8981228ca95a758349ea@weinco.at
LOCATION:Jasomirgottstraße 3-5, 1010 Wien
SUMMARY:Gin &amp; Tonic – A Match made in Heaven
DESCRIPTION:
CLASS:PUBLIC
DTSTART:20240126T190000
DTSTAMP:20260420T051700
END:VEVENT
END:VCALENDAR
