BEGIN:VCALENDAR
VERSION:2.0
PRODID:http://www.weinco.at
METHOD:PUBLISH
BEGIN:VEVENT
UID:f261bd4569f4c48cd8c39d7429c47757@weinco.at
LOCATION:Stubenring 5, 1010 Wien
SUMMARY:MondoVino 2019 Studenten Tageskarte Samstag 
DESCRIPTION:
CLASS:PUBLIC
DTSTART:20191123T150000
DTSTAMP:20260421T102800
END:VEVENT
END:VCALENDAR
