BEGIN:VCALENDAR
VERSION:2.0
PRODID:http://www.weinco.at
METHOD:PUBLISH
BEGIN:VEVENT
UID:794c58ac5bc1a201c0dd171621d565bd@weinco.at
LOCATION:Karl-Farkas-Gasse 19, 1030 Wien
SUMMARY:MondoVino 2025 Tagesticket Samstag
DESCRIPTION:
CLASS:PUBLIC
DTSTART:20251115T150000
DTSTAMP:20260425T184300
END:VEVENT
END:VCALENDAR
