BEGIN:VCALENDAR
VERSION:2.0
PRODID:http://www.weinco.at
METHOD:PUBLISH
BEGIN:VEVENT
UID:ff123d85a4be88e6892cc57e1e73d77f@weinco.at
LOCATION:Seyringer Straße 6-8, 1210 Wien
SUMMARY:Nothing compares to MERLOT!
DESCRIPTION:<p>Beim dritten Teil unser Verkostungsserie geht es um eine der beliebtesten Rebsorten der Welt, die <strong>Merlot-Traube</strong>. Aber ist Merlot wirklich immer weich und fruchtig, oder gibt es auch Kandidaten, die den Gaumen so richtig herausfordern? An diesem Abend finden Sie es heraus!</p><p style="background: #F5F1F1; text-align: center; padding: 20px;"><strong>Im Preis inbegriffen sind:<br><br></strong><em>Weinverkostung von bis zu 8 themenspezifischen Weinen</em><br><em>Frisch gebackenes Baguette und Vöslauer Mineralwasser</em><br><em>-10 % Eventgutschein* auf das gesamte reguläre Sortiment, sogar zusätzlich zum Mengenrabatt!<br><span>*Einlösbar am Abend des Events (Ausgenommen Ikonen und Aktionspreise)</span></em></p>
CLASS:PUBLIC
DTSTART:20240404T193000
DTSTAMP:20260420T065000
END:VEVENT
END:VCALENDAR
