BEGIN:VCALENDAR
VERSION:2.0
PRODID:http://www.weinco.at
METHOD:PUBLISH
BEGIN:VEVENT
UID:832f64b04453d8697cd600b74b14a1ad@weinco.at
LOCATION:Seyringer Straße 6-8, 1210 Wien
SUMMARY:Nothing compares to PINOT NOIR!
DESCRIPTION:<p>„Rebsortenspezifisch“ lautet das Zauberwort bzw. das Motto der neuen Verkostungsserie in Wien Nord. Wir beschäftigen uns immer einen ganzen Abend lang mit einer besonderen Rebsorte und der Auftakt gehört dem <strong>„König der Rotweine “</strong>: Lernen Sie die Einzigartigkeit und zugleich das Facettenreichtum des <strong>Pinot Noir</strong> kennen und lieben!</p><p style="background: #F5F1F1; text-align: center; padding: 20px;"><strong>Im Preis inbegriffen sind:<br><br></strong><em>Weinverkostung von bis zu 8 themenspezifischen Weinen</em><br><em>Frisch gebackenes Baguette und Vöslauer Mineralwasser</em><br><em>-10 % Eventgutschein* auf das gesamte reguläre Sortiment, sogar zusätzlich zum Mengenrabatt!<br><span>*Einlösbar am Abend des Events (Ausgenommen Ikonen und Aktionspreise)</span></em></p>
CLASS:PUBLIC
DTSTART:20240125T193000
DTSTAMP:20260420T051500
END:VEVENT
END:VCALENDAR
