BEGIN:VCALENDAR
VERSION:2.0
PRODID:http://www.weinco.at
METHOD:PUBLISH
BEGIN:VEVENT
UID:41ccbca6e720ff8cd93b17057f2fe0d9@weinco.at
LOCATION:Seyringer Straße 6-8, 1210 Wien
SUMMARY:Nothing compares to SYRAH!
DESCRIPTION:<p>Beim zweiten Teil unserer neuen&nbsp;„rebsortenspezifischen“ Verkostungsreihe geht es um die <strong>Syrah-Traube</strong>, in bestimmten Teilen der Welt auch als Shiraz bekannt. Verkosten Sie Syrah- und Shiraz-Weine <strong>aus verschiedensten Ländern</strong> und lassen Sie sich ganz von der warm-würzigen Stilistik dieser Rebsorte einnehmen!</p><p style="background: #F5F1F1; text-align: center; padding: 20px;"><strong>Im Preis inbegriffen sind:<br><br></strong><em>Weinverkostung von bis zu 8 themenspezifischen Weinen</em><br><em>Frisch gebackenes Baguette und Vöslauer Mineralwasser</em><br><em>-10 % Eventgutschein* auf das gesamte reguläre Sortiment, sogar zusätzlich zum Mengenrabatt!<br><span>*Einlösbar am Abend des Events (Ausgenommen Ikonen und Aktionspreise)</span></em></p>
CLASS:PUBLIC
DTSTART:20240208T193000
DTSTAMP:20260420T051500
END:VEVENT
END:VCALENDAR
