BEGIN:VCALENDAR
VERSION:2.0
PRODID:http://www.weinco.at
METHOD:PUBLISH
BEGIN:VEVENT
UID:9e5085b1a8633688490ba0fe7fe2862f@weinco.at
LOCATION:Mariahilfer Straße 36, 1070 Wien
SUMMARY:Portwein &amp; Schokolade
DESCRIPTION:
CLASS:PUBLIC
DTSTART:20240228T201500
DTSTAMP:20260420T034300
END:VEVENT
END:VCALENDAR
