BEGIN:VCALENDAR
VERSION:2.0
PRODID:http://www.weinco.at
METHOD:PUBLISH
BEGIN:VEVENT
UID:e6403365350214703763569edef497e0@weinco.at
LOCATION:Joanneumring 13, 8010 Graz
SUMMARY:Reise durch Frankreich
DESCRIPTION:<p>Keine Sorge, Sie müssen für unsere Tour de France nicht sonderlich sportlich sein. Das wichtigste hier ist das Heben des Weinglases und der vinophilen Reise durch Frankreich steht nichts mehr im Wege!&nbsp;</p><p><strong>Gestartet</strong> wird in <strong>Burgund</strong>, eine der einflussreichsten Regionen Frankreichs, die für ihre unverwechselbaren Pinot Noirs und Chardonnays bekannt ist. Fokus dieser besonderen Reise ist der südliche Teil dieser fast mystischen Region: <strong>Beaujolais!&nbsp;</strong>Während im restlichen Burgund die klassischen Burgundsorten zu Hause sind, so dreht sich in Beaujolais alles um <strong>Gamay</strong> und den Granitböden. Junge, fruchtige Weine mit wenig Tannin entstehen aus den Trauben und sind eine pure Trinkfreude!</p><p>Den Abschluss der Reise bildet das <strong>Rh</strong><span><strong>ônetal</strong> mit seinen herzhaften Weinen, die mit ihrem Facettenreichtum begeistern. Würzig und elegant, so werden die Weine aus dem Norden beschrieben, während der Süden wuchtige und füllige Weine präsentiert.&nbsp;</span>&nbsp;</p><p>Unser<strong> WEIN &amp; CO Sommelier</strong> freut sich, Sie auf diese vinophile Reise zu begleiten und Ihnen Frankreich ein Stück näher zu bringen</p><p>&nbsp;</p><p><strong>Im Preis inbegriffen sind:</strong></p><ul>
<li>Weinverkostung von bis zu 8 Weine</li>
<li>Frisch gebackenes Baguette und Wasser&nbsp;</li>
<li>-10 % auf das gesamte reguläre Sortiment - sogar zusätzlich zum Mengenrabatt!&nbsp;(Ausgenommen Ikonen und Aktionspreise)&nbsp;</li>
</ul>
CLASS:PUBLIC
DTSTART:20220512T190000
DTSTAMP:20260423T020400
END:VEVENT
END:VCALENDAR
