BEGIN:VCALENDAR
VERSION:2.0
PRODID:http://www.weinco.at
METHOD:PUBLISH
BEGIN:VEVENT
UID:8a898f8ade5848598d11aee0fa0a1a30@weinco.at
LOCATION:Hietzinger Hauptstraße 22, 1130 Wien
SUMMARY:Reise durch Frankreich
DESCRIPTION:
CLASS:PUBLIC
DTSTART:20240208T190000
DTSTAMP:20260420T051100
END:VEVENT
END:VCALENDAR
