BEGIN:VCALENDAR
VERSION:2.0
PRODID:http://www.weinco.at
METHOD:PUBLISH
BEGIN:VEVENT
UID:b4bda2c707d13ad47e729d18de35951f@weinco.at
LOCATION:Joanneumring 13, 8010 Graz
SUMMARY:Rotwein ABC
DESCRIPTION:
CLASS:PUBLIC
DTSTART:20240201T190000
DTSTAMP:20260420T033900
END:VEVENT
END:VCALENDAR
