BEGIN:VCALENDAR
VERSION:2.0
PRODID:http://www.weinco.at
METHOD:PUBLISH
BEGIN:VEVENT
UID:95356eea66841c802e7ccd40299dcfb5@weinco.at
LOCATION:Mariahilfer Straße 36, 1070 Wien
SUMMARY:Rotwein ABC
DESCRIPTION:
CLASS:PUBLIC
DTSTART:20240124T201500
DTSTAMP:20260420T033900
END:VEVENT
END:VCALENDAR
