BEGIN:VCALENDAR
VERSION:2.0
PRODID:http://www.weinco.at
METHOD:PUBLISH
BEGIN:VEVENT
UID:485a14fd62b66db23227ab287b1eea1b@weinco.at
LOCATION:Universitätsring 12, 1010 Wien
SUMMARY:Rum Premium-Masterclass
DESCRIPTION:
CLASS:PUBLIC
DTSTART:20221110T190000
DTSTAMP:20260421T184000
END:VEVENT
END:VCALENDAR
