BEGIN:VCALENDAR
VERSION:2.0
PRODID:http://www.weinco.at
METHOD:PUBLISH
BEGIN:VEVENT
UID:78dbe27fdb74c9ae3b0a6c17bffa8b18@weinco.at
LOCATION:Jasomirgottstraße 3-5, 1010 Wien
SUMMARY:Schaumwein ABC
DESCRIPTION:
CLASS:PUBLIC
DTSTART:20240202T190000
DTSTAMP:20260420T034000
END:VEVENT
END:VCALENDAR
