BEGIN:VCALENDAR
VERSION:2.0
PRODID:http://www.weinco.at
METHOD:PUBLISH
BEGIN:VEVENT
UID:b54b25d3e55ecd6033db40a728a21ca1@weinco.at
LOCATION:Jasomirgottstraße 3-5, 1010 Wien
SUMMARY:Schaumwein ABC
DESCRIPTION:
CLASS:PUBLIC
DTSTART:20240322T190000
DTSTAMP:20260420T051000
END:VEVENT
END:VCALENDAR
