BEGIN:VCALENDAR
VERSION:2.0
PRODID:http://www.weinco.at
METHOD:PUBLISH
BEGIN:VEVENT
UID:02fae1165420fe30b5717e461d4bc7b3@weinco.at
LOCATION:Bruno-Kreisky-Straße 39, 9500 Villach
SUMMARY:Schaumwein ABC
DESCRIPTION:
CLASS:PUBLIC
DTSTART:20240412T064500
DTSTAMP:20260420T033900
END:VEVENT
END:VCALENDAR
