BEGIN:VCALENDAR
VERSION:2.0
PRODID:http://www.weinco.at
METHOD:PUBLISH
BEGIN:VEVENT
UID:4c649d75fcd644b660b3df0ed5e8c656@weinco.at
LOCATION:Heldenplatz, 1010 Wien
SUMMARY:School of Wine - Champagner abseits des Mainstreams
DESCRIPTION:
CLASS:PUBLIC
DTSTART:20220523T150000
DTSTAMP:20260422T213200
END:VEVENT
END:VCALENDAR
