BEGIN:VCALENDAR
VERSION:2.0
PRODID:http://www.weinco.at
METHOD:PUBLISH
BEGIN:VEVENT
UID:2f5d21999da313309846db2cf8f995df@weinco.at
LOCATION:Heldenplatz, 1010 Wien
SUMMARY:School of Wine - Geheimtipps aus Burgund und dem Beaujolais
DESCRIPTION:
CLASS:PUBLIC
DTSTART:20220521T161500
DTSTAMP:20260422T223300
END:VEVENT
END:VCALENDAR
