BEGIN:VCALENDAR
VERSION:2.0
PRODID:http://www.weinco.at
METHOD:PUBLISH
BEGIN:VEVENT
UID:c45b876541ee45037b6ba8c7af1608ac@weinco.at
LOCATION:Rheinstraße 67, 6900 Bregenz
SUMMARY:Schulschluss Sommer Party
DESCRIPTION:
CLASS:PUBLIC
DTSTART:20260710T130000
DTSTAMP:20260421T183700
END:VEVENT
END:VCALENDAR
