BEGIN:VCALENDAR
VERSION:2.0
PRODID:http://www.weinco.at
METHOD:PUBLISH
BEGIN:VEVENT
UID:1aebc7e51e61a787aa2d3419a3a96ae0@weinco.at
LOCATION:Seyringer Straße 6-8, 1210 Wien
SUMMARY:Surprise, Surprise: Rosé!
DESCRIPTION:
CLASS:PUBLIC
DTSTART:20230628T193000
DTSTAMP:20260422T105800
END:VEVENT
END:VCALENDAR
