BEGIN:VCALENDAR
VERSION:2.0
PRODID:http://www.weinco.at
METHOD:PUBLISH
BEGIN:VEVENT
UID:8e6a4217e8a7391fdc7e89a120fe5d86@weinco.at
LOCATION:Bruno-Kreisky-Straße 39, 9500 Villach
SUMMARY:Tag der offenen Weine
DESCRIPTION:
CLASS:PUBLIC
DTSTART:20240222T110000
DTSTAMP:20260420T081800
END:VEVENT
END:VCALENDAR
