BEGIN:VCALENDAR
VERSION:2.0
PRODID:http://www.weinco.at
METHOD:PUBLISH
BEGIN:VEVENT
UID:d1c1a2daad72f9d116f600c1c542b573@weinco.at
LOCATION:Bruno-Kreisky-Straße 39, 9500 Villach
SUMMARY:Tag der offenen Weine
DESCRIPTION:<p>Ihr wollt eure Liebsten einmal mit einer Weinbegleitung für Kekse überraschen? Dann lasst euch von uns inspirieren!<br>Wir zeigen, welche Weine zu den klassischen Adventkeksen passen und auf was man achten sollte. Denn: süß und süß passt zwar immer, aber es gibt auch tolle trockene Tropfen, die mit Vanillekipferln und Co das perfekte Paar bilden!</p>
CLASS:PUBLIC
DTSTART:20261209T100000
DTSTAMP:20260419T175800
END:VEVENT
END:VCALENDAR
