BEGIN:VCALENDAR
VERSION:2.0
PRODID:http://www.weinco.at
METHOD:PUBLISH
BEGIN:VEVENT
UID:4c1f53116d73ff13367ffbfd35d8a105@weinco.at
LOCATION:Albert-Schweitzer-Gasse 7, 1140 Wien
SUMMARY:Tag der offenen Weine
DESCRIPTION:<p>Stimmen Sie sich mit uns ein auf das kommende WM-Spiel Österreich gegen Argentinien. Wer hat in Sachen Wein die Nase vorne?&nbsp;</p>
CLASS:PUBLIC
DTSTART:20260620T110000
DTSTAMP:20260419T180000
END:VEVENT
END:VCALENDAR
