BEGIN:VCALENDAR
VERSION:2.0
PRODID:http://www.weinco.at
METHOD:PUBLISH
BEGIN:VEVENT
UID:14d8905820297f70d9a211f964f16257@weinco.at
LOCATION:Hans Dujsik-Allee 7 / Top 26, 2334 Vösendorf
SUMMARY:Tag der offenen Weine
DESCRIPTION:<p>Frisch released &amp; voller Spannung: Die Wachauer Smaragde sind da. Jetzt entdecken, was der neue Jahrgang kann.</p>
CLASS:PUBLIC
DTSTART:20260605T100000
DTSTAMP:20260419T162100
END:VEVENT
END:VCALENDAR
