BEGIN:VCALENDAR
VERSION:2.0
PRODID:http://www.weinco.at
METHOD:PUBLISH
BEGIN:VEVENT
UID:b60c86b130a3ef5f2f03ce2b032147d8@weinco.at
LOCATION:Hans Dujsik-Allee 7 / Top 26, 2334 Vösendorf
SUMMARY:Tag der offenen Weine
DESCRIPTION:<p>Ein Stil, viele Länder: Rosé-Weine rund um die Welt. Wir öffnen internationale Rosés und laden ein zum Vergleichen, Entdecken und Genießen – Schluck für Schluck um den Globus.</p>
CLASS:PUBLIC
DTSTART:20260807T100000
DTSTAMP:20260419T175900
END:VEVENT
END:VCALENDAR
