BEGIN:VCALENDAR
VERSION:2.0
PRODID:http://www.weinco.at
METHOD:PUBLISH
BEGIN:VEVENT
UID:cf5139a6d67298ed2ff533b7bc4fe709@weinco.at
LOCATION:Hans Dujsik-Allee 7 / Top 26, 2334 Vösendorf
SUMMARY:Tag der offenen Weine
DESCRIPTION:<p>Heimat im Glas: Rotweine aus Österreich. Charakterstarke Weine, geprägt von Klima, Boden und Handschrift der Winzer.</p>
CLASS:PUBLIC
DTSTART:20260904T100000
DTSTAMP:20260419T175900
END:VEVENT
END:VCALENDAR
