BEGIN:VCALENDAR
VERSION:2.0
PRODID:http://www.weinco.at
METHOD:PUBLISH
BEGIN:VEVENT
UID:7fcbff32ba6970c5a98efe594b17c6a8@weinco.at
LOCATION:Hans Dujsik-Allee 7 / Top 26, 2334 Vösendorf
SUMMARY:Tag der offenen Weine
DESCRIPTION:<p>Piemont im Glas – wir öffnen ausgewählte Weine aus einer der spannendsten Regionen Italiens und laden zum Verkosten und Vergleichen ein.</p>
CLASS:PUBLIC
DTSTART:20261002T100000
DTSTAMP:20260419T162300
END:VEVENT
END:VCALENDAR
