BEGIN:VCALENDAR
VERSION:2.0
PRODID:http://www.weinco.at
METHOD:PUBLISH
BEGIN:VEVENT
UID:45ab092a5990dcce61e606f64873a98f@weinco.at
LOCATION:Hans Dujsik-Allee 7 / Top 26, 2334 Vösendorf
SUMMARY:Tag der offenen Weine
DESCRIPTION:<p>Der November prickelt! Entdecken Sie Schaumweine mit Charakter – von elegant bis verspielt, perfekt für die gemütliche Jahreszeit.</p>
CLASS:PUBLIC
DTSTART:20261106T100000
DTSTAMP:20260419T162300
END:VEVENT
END:VCALENDAR
