BEGIN:VCALENDAR
VERSION:2.0
PRODID:http://www.weinco.at
METHOD:PUBLISH
BEGIN:VEVENT
UID:863077711ff23e3a4cc4ddb915cc02f5@weinco.at
LOCATION:Joanneumring 13, 8010 Graz
SUMMARY:Tag der offenen Weine
DESCRIPTION:
CLASS:PUBLIC
DTSTART:20260508T100000
DTSTAMP:20260419T175800
END:VEVENT
END:VCALENDAR
