BEGIN:VCALENDAR
VERSION:2.0
PRODID:http://www.weinco.at
METHOD:PUBLISH
BEGIN:VEVENT
UID:b806521ac395b5b8474a8e3e81ab50f9@weinco.at
LOCATION:Joanneumring 13, 8010 Graz
SUMMARY:Tag der offenen Weine
DESCRIPTION:<p>Prosecco hat so viele Facetten zu bieten: finden Sie Ihren Lieblings-Sprudel!</p>
CLASS:PUBLIC
DTSTART:20260703T100000
DTSTAMP:20260419T175700
END:VEVENT
END:VCALENDAR
