BEGIN:VCALENDAR
VERSION:2.0
PRODID:http://www.weinco.at
METHOD:PUBLISH
BEGIN:VEVENT
UID:fe2e8c9e03498e3bd2c4c2205afdfc44@weinco.at
LOCATION:Stadionstraße 10-12 Merkurcity, 2700 Wiener Neustadt
SUMMARY:Tag der offenen Weine
DESCRIPTION:<p>Sauvignon Blanc hat viel zu bieten! Von Neuseeland bis Frankreich über Steiermark sind viele Stile möglich!</p>
CLASS:PUBLIC
DTSTART:20260430T100000
DTSTAMP:20260419T175500
END:VEVENT
END:VCALENDAR
