BEGIN:VCALENDAR
VERSION:2.0
PRODID:http://www.weinco.at
METHOD:PUBLISH
BEGIN:VEVENT
UID:85736fd3f78e6b884e0cfec1ee6abc77@weinco.at
LOCATION:Stadionstraße 10-12 Merkurcity, 2700 Wiener Neustadt
SUMMARY:Tag der offenen Weine
DESCRIPTION:<p>Verkosten Sie die ersten Weine des neuen Jahrgangs und machen sich ein Bild der neuen Weine!</p>
CLASS:PUBLIC
DTSTART:20260522T100000
DTSTAMP:20260419T162200
END:VEVENT
END:VCALENDAR
