BEGIN:VCALENDAR
VERSION:2.0
PRODID:http://www.weinco.at
METHOD:PUBLISH
BEGIN:VEVENT
UID:4682b5b0e2a747661f14bb99b7c74544@weinco.at
LOCATION:Johann Assl-Platz 1, 8501 Lieboch
SUMMARY:Tag der offenen Weine
DESCRIPTION:<p>Unser erweitertes Gratisverkostungssortiment umfasst heute den Grünen Veltliner in 3 verschiedenen Stilen!&nbsp;</p>
CLASS:PUBLIC
DTSTART:20260424T100000
DTSTAMP:20260419T175700
END:VEVENT
END:VCALENDAR
