BEGIN:VCALENDAR
VERSION:2.0
PRODID:http://www.weinco.at
METHOD:PUBLISH
BEGIN:VEVENT
UID:7bbb9477a17863c5f05695b754185377@weinco.at
LOCATION:Universitätsring 12, 1010 Wien
SUMMARY:Tag der offenen Weine
DESCRIPTION:<p>Verkostet können jeweils ein Still – und ein Schaumwein von 3 ausgewählten Winzer:innen aus Österreich, Deutschland und Frankreich.<br><br><br></p>
CLASS:PUBLIC
DTSTART:20260917T110000
DTSTAMP:20260425T182300
END:VEVENT
END:VCALENDAR
