BEGIN:VCALENDAR
VERSION:2.0
PRODID:http://www.weinco.at
METHOD:PUBLISH
BEGIN:VEVENT
UID:b38801baf56109a4576501d6c6ec3a81@weinco.at
LOCATION:Platzl 2, 5020 Salzburg
SUMMARY:Themenverkostung Burgenland
DESCRIPTION:<p>Begleiten Sie unsere Sommelière Melanie Sager auf einer Reise durch das Burgenland!</p><p style="background: #F5F1F1; text-align: center; padding: 20px;"><strong>Im Preis inbegriffen sind:<br><br></strong> <em>Weinverkostung von 8 themenspezifischen Weinen</em><br><em>Frisch gebackenes Baguette und Vöslauer Mineralwasser</em> <br><em>-10 % Eventgutschein* auf das gesamte reguläre Sortiment, sogar zusätzlich zum Mengenrabatt! <br><span style="font-size: small;">*Einlösbar am Abend des Events (Ausgenommen Ikonen und Aktionspreise)</span></em></p>
CLASS:PUBLIC
DTSTART:20240127T190000
DTSTAMP:20260420T034700
END:VEVENT
END:VCALENDAR
