BEGIN:VCALENDAR
VERSION:2.0
PRODID:http://www.weinco.at
METHOD:PUBLISH
BEGIN:VEVENT
UID:c1de2111b16e6b21b794451fe54ef86f@weinco.at
LOCATION:Jasomirgottstraße 3-5, 1010 Wien
SUMMARY:Themenverkostung Champagner
DESCRIPTION:
CLASS:PUBLIC
DTSTART:20240119T070000
DTSTAMP:20260420T034300
END:VEVENT
END:VCALENDAR
