BEGIN:VCALENDAR
VERSION:2.0
PRODID:http://www.weinco.at
METHOD:PUBLISH
BEGIN:VEVENT
UID:96dc193d7a9ab734f072c7d831cb281a@weinco.at
LOCATION:Universitätsring 12, 1010 Wien
SUMMARY:Themenverkostung Crémant
DESCRIPTION:
CLASS:PUBLIC
DTSTART:20240303T130000
DTSTAMP:20260420T034400
END:VEVENT
END:VCALENDAR
