BEGIN:VCALENDAR
VERSION:2.0
PRODID:http://www.weinco.at
METHOD:PUBLISH
BEGIN:VEVENT
UID:5a6d8346f6a318aa3019f591b878b4aa@weinco.at
LOCATION:Hans Dujsik-Allee 7 / Top 26, 2334 Vösendorf
SUMMARY:Themenverkostung durchs Rhônetal
DESCRIPTION:
CLASS:PUBLIC
DTSTART:20220420T193000
DTSTAMP:20260423T020400
END:VEVENT
END:VCALENDAR
