BEGIN:VCALENDAR
VERSION:2.0
PRODID:http://www.weinco.at
METHOD:PUBLISH
BEGIN:VEVENT
UID:01600ecc17d3094eb9669cd6a4feb8a8@weinco.at
LOCATION:Rheinstraße 67, 6900 Bregenz
SUMMARY:Themenverkostung IKONEN
DESCRIPTION:<p>Wir starten 2024 mit einer fulminanten Verkostung. Bei dieser Ikonenverkostung sind Besondere Weine aus der<strong> Alten und Neuen Welt</strong> dabei. Erstmalig gibt es auch reifere Weine sowie Highlights der Verkostungen der letzten Jahre.</p>
CLASS:PUBLIC
DTSTART:20240127T170000
DTSTAMP:20260420T034300
END:VEVENT
END:VCALENDAR
