BEGIN:VCALENDAR
VERSION:2.0
PRODID:http://www.weinco.at
METHOD:PUBLISH
BEGIN:VEVENT
UID:a047670f867d3562d9299c27b5fe9451@weinco.at
LOCATION:Platzl 2, 5020 Salzburg
SUMMARY:Themenverkostung IKONEN
DESCRIPTION:
CLASS:PUBLIC
DTSTART:20240601T190000
DTSTAMP:20260420T051200
END:VEVENT
END:VCALENDAR
