BEGIN:VCALENDAR
VERSION:2.0
PRODID:http://www.weinco.at
METHOD:PUBLISH
BEGIN:VEVENT
UID:e2bd1aedcca34c1460557619b293af86@weinco.at
LOCATION:Seyringer Straße 6-8, 1210 Wien
SUMMARY:Themenverkostung Méthode Traditionelle
DESCRIPTION:
CLASS:PUBLIC
DTSTART:20220317T193000
DTSTAMP:20260423T020700
END:VEVENT
END:VCALENDAR
