BEGIN:VCALENDAR
VERSION:2.0
PRODID:http://www.weinco.at
METHOD:PUBLISH
BEGIN:VEVENT
UID:306be5c84f4338ff865ca4793fb328f3@weinco.at
LOCATION:Hietzinger Hauptstraße 22, 1130 Wien
SUMMARY:Themenverkostung Neue Welt
DESCRIPTION:
CLASS:PUBLIC
DTSTART:20240411T190000
DTSTAMP:20260420T034600
END:VEVENT
END:VCALENDAR
