BEGIN:VCALENDAR
VERSION:2.0
PRODID:http://www.weinco.at
METHOD:PUBLISH
BEGIN:VEVENT
UID:9e91a17c43b4ebaee6294d64de0bc029@weinco.at
LOCATION:Hietzinger Hauptstraße 22, 1130 Wien
SUMMARY:Themenverkostung Neue Welt
DESCRIPTION:
CLASS:PUBLIC
DTSTART:20240118T190000
DTSTAMP:20260420T034600
END:VEVENT
END:VCALENDAR
