BEGIN:VCALENDAR
VERSION:2.0
PRODID:http://www.weinco.at
METHOD:PUBLISH
BEGIN:VEVENT
UID:4b86521fb429633d44697456d41ac4e5@weinco.at
LOCATION:Rheinstraße 67, 6900 Bregenz
SUMMARY:Themenverkostung: Österreichs Rotweinklassiker
DESCRIPTION:
CLASS:PUBLIC
DTSTART:20220429T190000
DTSTAMP:20260424T045500
END:VEVENT
END:VCALENDAR
